BEGIN:VCALENDAR
VERSION:2.0
PRODID:-//American Historical Society of Germans from Russia - ECPv6.15.20//NONSGML v1.0//EN
CALSCALE:GREGORIAN
METHOD:PUBLISH
X-WR-CALNAME:American Historical Society of Germans from Russia
X-ORIGINAL-URL:https://ahsgr.org
X-WR-CALDESC:Events for American Historical Society of Germans from Russia
REFRESH-INTERVAL;VALUE=DURATION:PT1H
X-Robots-Tag:noindex
X-PUBLISHED-TTL:PT1H
BEGIN:VTIMEZONE
TZID:America/Chicago
BEGIN:DAYLIGHT
TZOFFSETFROM:-0600
TZOFFSETTO:-0500
TZNAME:CDT
DTSTART:20250309T080000
END:DAYLIGHT
BEGIN:STANDARD
TZOFFSETFROM:-0500
TZOFFSETTO:-0600
TZNAME:CST
DTSTART:20251102T070000
END:STANDARD
BEGIN:DAYLIGHT
TZOFFSETFROM:-0600
TZOFFSETTO:-0500
TZNAME:CDT
DTSTART:20260308T080000
END:DAYLIGHT
BEGIN:STANDARD
TZOFFSETFROM:-0500
TZOFFSETTO:-0600
TZNAME:CST
DTSTART:20261101T070000
END:STANDARD
BEGIN:DAYLIGHT
TZOFFSETFROM:-0600
TZOFFSETTO:-0500
TZNAME:CDT
DTSTART:20270314T080000
END:DAYLIGHT
BEGIN:STANDARD
TZOFFSETFROM:-0500
TZOFFSETTO:-0600
TZNAME:CST
DTSTART:20271107T070000
END:STANDARD
END:VTIMEZONE
BEGIN:VEVENT
DTSTART;TZID=America/Chicago:20260224T173000
DTEND;TZID=America/Chicago:20260224T183000
DTSTAMP:20260425T205359
CREATED:20260120T193800Z
LAST-MODIFIED:20260120T202319Z
UID:10000203-1771954200-1771957800@ahsgr.org
SUMMARY:Treffen Tuesday
DESCRIPTION:They Returned to the Homeland:  Finding Germans from Russia in the U.S. Passport Application Files\nPresented by Allyn Brosz \nFor Germans from the Russian Empire\, the transatlantic journey was not always a one-way trip. Some immigrants to the U.S. returned to their ancestral villages as naturalized American citizens\, crossing the Atlantic more than once. Their stories are found in the United States passport application files. This presentation examines the application files\, discussing their availability and offering search techniques.  Some of those who traveled and their stories will be highlighted. The odyssey of a Volga German family spanning more than two decades is a case study. \nAllyn’s Bio \nAllyn Brosz is a South Dakota native with German-Russian ancestry in Bessarabia and the Black Sea Lutheran Glueckstal District colonies of the Tsarist Empire. Allyn holds bachelor’s and master’s degrees and studied in Germany on a Fulbright grant. He retired from a civilian position at the U.S. Department of Defense in 2021. Allyn is a life member of the American Historical Society of Germans from Russia (AHSGR)\, the Germans from Russia Heritage Society (GRHS)\, and the Palatines to America Society\, and serves on the steering committee of the Glueckstal Colonies Research. He served on the AHSGR Board of Directors in the 1990s. \nRegister here \nAfter registering\, you should get a confirmation email from Zoom. Please contact us for assistance if you do not receive an email.
URL:https://ahsgr.org/event/treffen-tuesday-13-18-3/
CATEGORIES:Treffen Tuesday
ATTACH;FMTTYPE=image/png:https://ahsgr.org/wpcms/wp-content/uploads/2025/12/2026-Treffen-Tuesday-2.png
END:VEVENT
END:VCALENDAR