BEGIN:VCALENDAR
VERSION:2.0
PRODID:-//American Historical Society of Germans from Russia - ECPv6.15.20//NONSGML v1.0//EN
CALSCALE:GREGORIAN
METHOD:PUBLISH
X-WR-CALNAME:American Historical Society of Germans from Russia
X-ORIGINAL-URL:https://ahsgr.org
X-WR-CALDESC:Events for American Historical Society of Germans from Russia
REFRESH-INTERVAL;VALUE=DURATION:PT1H
X-Robots-Tag:noindex
X-PUBLISHED-TTL:PT1H
BEGIN:VTIMEZONE
TZID:America/Chicago
BEGIN:DAYLIGHT
TZOFFSETFROM:-0600
TZOFFSETTO:-0500
TZNAME:CDT
DTSTART:20220313T080000
END:DAYLIGHT
BEGIN:STANDARD
TZOFFSETFROM:-0500
TZOFFSETTO:-0600
TZNAME:CST
DTSTART:20221106T070000
END:STANDARD
BEGIN:DAYLIGHT
TZOFFSETFROM:-0600
TZOFFSETTO:-0500
TZNAME:CDT
DTSTART:20230312T080000
END:DAYLIGHT
BEGIN:STANDARD
TZOFFSETFROM:-0500
TZOFFSETTO:-0600
TZNAME:CST
DTSTART:20231105T070000
END:STANDARD
BEGIN:DAYLIGHT
TZOFFSETFROM:-0600
TZOFFSETTO:-0500
TZNAME:CDT
DTSTART:20240310T080000
END:DAYLIGHT
BEGIN:STANDARD
TZOFFSETFROM:-0500
TZOFFSETTO:-0600
TZNAME:CST
DTSTART:20241103T070000
END:STANDARD
BEGIN:DAYLIGHT
TZOFFSETFROM:-0600
TZOFFSETTO:-0500
TZNAME:CDT
DTSTART:20250309T080000
END:DAYLIGHT
BEGIN:STANDARD
TZOFFSETFROM:-0500
TZOFFSETTO:-0600
TZNAME:CST
DTSTART:20251102T070000
END:STANDARD
END:VTIMEZONE
BEGIN:VEVENT
DTSTART;TZID=America/Chicago:20240601T090000
DTEND;TZID=America/Chicago:20240601T160000
DTSTAMP:20260421T083107
CREATED:20240207T212425Z
LAST-MODIFIED:20240207T212425Z
UID:10000116-1717232400-1717257600@ahsgr.org
SUMMARY:Research Saturdays
DESCRIPTION:AHSGR will be open 9am to 4pm on the first Saturday of each month to allow people to conduct research outside of normal museum hours. Appointments are not required but are encouraged\, and you can schedule one here!
URL:https://ahsgr.org/event/research-saturdays/2024-06-01/
LOCATION:AHSGR Headquarters\, 631 D St.\, Lincoln\, NE\, 68502\, United States
ATTACH;FMTTYPE=image/png:https://ahsgr.org/wpcms/wp-content/uploads/2024/02/Research_Saturdays_Graphic_2023_11_29.png
END:VEVENT
BEGIN:VEVENT
DTSTART;TZID=America/Chicago:20240504T090000
DTEND;TZID=America/Chicago:20240504T160000
DTSTAMP:20260421T083108
CREATED:20240207T212425Z
LAST-MODIFIED:20240207T212425Z
UID:10000115-1714813200-1714838400@ahsgr.org
SUMMARY:Research Saturdays
DESCRIPTION:AHSGR will be open 9am to 4pm on the first Saturday of each month to allow people to conduct research outside of normal museum hours. Appointments are not required but are encouraged\, and you can schedule one here!
URL:https://ahsgr.org/event/research-saturdays/2024-05-04/
LOCATION:AHSGR Headquarters\, 631 D St.\, Lincoln\, NE\, 68502\, United States
ATTACH;FMTTYPE=image/png:https://ahsgr.org/wpcms/wp-content/uploads/2024/02/Research_Saturdays_Graphic_2023_11_29.png
END:VEVENT
BEGIN:VEVENT
DTSTART;TZID=America/Chicago:20240406T090000
DTEND;TZID=America/Chicago:20240406T160000
DTSTAMP:20260421T083108
CREATED:20240207T212425Z
LAST-MODIFIED:20240207T212425Z
UID:10000114-1712394000-1712419200@ahsgr.org
SUMMARY:Research Saturdays
DESCRIPTION:AHSGR will be open 9am to 4pm on the first Saturday of each month to allow people to conduct research outside of normal museum hours. Appointments are not required but are encouraged\, and you can schedule one here!
URL:https://ahsgr.org/event/research-saturdays/2024-04-06/
LOCATION:AHSGR Headquarters\, 631 D St.\, Lincoln\, NE\, 68502\, United States
ATTACH;FMTTYPE=image/png:https://ahsgr.org/wpcms/wp-content/uploads/2024/02/Research_Saturdays_Graphic_2023_11_29.png
END:VEVENT
BEGIN:VEVENT
DTSTART;TZID=America/Chicago:20240302T090000
DTEND;TZID=America/Chicago:20240302T160000
DTSTAMP:20260421T083108
CREATED:20240207T212425Z
LAST-MODIFIED:20240207T212425Z
UID:10000113-1709370000-1709395200@ahsgr.org
SUMMARY:Research Saturdays
DESCRIPTION:AHSGR will be open 9am to 4pm on the first Saturday of each month to allow people to conduct research outside of normal museum hours. Appointments are not required but are encouraged\, and you can schedule one here!
URL:https://ahsgr.org/event/research-saturdays/2024-03-02/
LOCATION:AHSGR Headquarters\, 631 D St.\, Lincoln\, NE\, 68502\, United States
ATTACH;FMTTYPE=image/png:https://ahsgr.org/wpcms/wp-content/uploads/2024/02/Research_Saturdays_Graphic_2023_11_29.png
END:VEVENT
BEGIN:VEVENT
DTSTART;TZID=America/Chicago:20231023T130000
DTEND;TZID=America/Chicago:20231023T160000
DTSTAMP:20260421T083108
CREATED:20230313T193224Z
LAST-MODIFIED:20231020T211916Z
UID:10000082-1698066000-1698076800@ahsgr.org
SUMMARY:Introduction to Germans from Russia Genealogy II
DESCRIPTION:Join us October 23\, 2023 for a zoom genealogy event! \nCost: Free to members and $20 to nonmembers; Sign up is required \nVirtual Only \nThis workshop will provide an overview on how to start your journey to discover your German Russian roots by showing you how to find your ancestors’ Russian village. Attendees will also have an hour and a half to tour the library and archives\, familiarize themselves with what is available onsite and online\, and talk to the Archivists and the presenter. Make sure to sign up by October 15\, 2023. (Presentation will be filmed and placed on website for members-only access after November 1) \n\nRegistration Now Closed
URL:https://ahsgr.org/event/introduction-to-germans-from-russia-genealogy-ii/
LOCATION:AHSGR Headquarters\, 631 D St.\, Lincoln\, NE\, 68502\, United States
ATTACH;FMTTYPE=image/png:https://ahsgr.org/wpcms/wp-content/uploads/2023/08/BunnockTours-InstaFB-4.png
END:VEVENT
BEGIN:VEVENT
DTSTART;TZID=America/Chicago:20231021T130000
DTEND;TZID=America/Chicago:20231021T160000
DTSTAMP:20260421T083108
CREATED:20230313T193959Z
LAST-MODIFIED:20231020T211906Z
UID:10000085-1697893200-1697904000@ahsgr.org
SUMMARY:Preserving Your Family Photos and Archives Workshop (Celebrating Archives Day)
DESCRIPTION:  \nLet’s Celebrate Archives Day! AHSGR’s Archivist Karen Keehr will present a workshop on how to care for\, preserve\, and organize your family photos\, papers\, and other items. This is a Virtual Event on Zoom. \nCost: Free for member\, $15 for non-members \n  \nRegistration Now Closed
URL:https://ahsgr.org/event/preserving-your-family-photos-and-archives-workshop-celebrating-archives-day/
LOCATION:AHSGR Headquarters\, 631 D St.\, Lincoln\, NE\, 68502\, United States
ATTACH;FMTTYPE=image/png:https://ahsgr.org/wpcms/wp-content/uploads/2023/03/PRESERVING-YOUR-FAMILY-PHOTOS-AND-ARCHIVES-WORKSHOP-1.png
END:VEVENT
BEGIN:VEVENT
DTSTART;TZID=America/Chicago:20231014T140000
DTEND;TZID=America/Chicago:20231014T170000
DTSTAMP:20260421T083108
CREATED:20230313T193654Z
LAST-MODIFIED:20231013T142152Z
UID:10000083-1697292000-1697302800@ahsgr.org
SUMMARY:Neighborhood Oktoberfest
DESCRIPTION:Join AHSGR and it’s partners for a South Bottoms Neighborhood Oktoberfest. Kinkaider Brewing will host a beer garden with some of their best brews on tap (must be 21 to partake) and Group Therapy will offer pedal car shuttles between AHSGR and the Haymarket. Additional activities for all ages will include: music\, games\, museum tours\, a bouncy house\, and more. Food and non-alcoholic beverages will be available for a free will donation thanks to our generous donors. \n 
URL:https://ahsgr.org/event/oktoberfest-2/
LOCATION:AHSGR Headquarters\, 631 D St.\, Lincoln\, NE\, 68502\, United States
ATTACH;FMTTYPE=image/png:https://ahsgr.org/wpcms/wp-content/uploads/2023/03/Oktoberfest-Graphic-9.png
END:VEVENT
BEGIN:VEVENT
DTSTART;TZID=America/Chicago:20230624T100000
DTEND;TZID=America/Chicago:20230624T140000
DTSTAMP:20260421T083108
CREATED:20230313T192628Z
LAST-MODIFIED:20230522T212628Z
UID:10000080-1687600800-1687615200@ahsgr.org
SUMMARY:AHSGR’s Bunnock Day and Launch of South Bottoms Historic Tours
DESCRIPTION:Visit AHSGR’s campus in the Historic South Bottoms District in Lincoln\, Nebraska\, for a day of fun and learning! Try your hand at the classic German-Russian game\, Bunnock\, and go on our new walking tour of the historic neighborhood and learn about the influence of German-Russian immigrants in its development. Enjoy light refreshments\, guided tours of campus\, and instruction in the game of Bunnock. \nCost: Suggested Donation
URL:https://ahsgr.org/event/ahsgrs-1st-annual-bunnock-day/
LOCATION:AHSGR Headquarters\, 631 D St.\, Lincoln\, NE\, 68502\, United States
END:VEVENT
BEGIN:VEVENT
DTSTART;TZID=America/Chicago:20230609T130000
DTEND;TZID=America/Chicago:20230609T150000
DTSTAMP:20260421T083108
CREATED:20230313T192353Z
LAST-MODIFIED:20230412T144430Z
UID:10000079-1686315600-1686322800@ahsgr.org
SUMMARY:AHSGR’s Technology “Office Hours”
DESCRIPTION:AHSGR’s technology staffer\, Jonathan\, will be available to assist members with basic technology questions and training relating to our website\, online resources\, signing up for events and purchasing tickets\, using our online store\, and other skills that will help our members interact with us. Office hours are in-person or online but sign-up is required for 15-30 minute appointments. To reserve your time slot\, please contact egengenbach@ahsgr.org or call 402-474-3363\, ext. 101 \nCost: Open to Members Only-donations accepted
URL:https://ahsgr.org/event/ahsgrs-technology-office-hours/
LOCATION:AHSGR Headquarters\, 631 D St.\, Lincoln\, NE\, 68502\, United States
END:VEVENT
BEGIN:VEVENT
DTSTART;VALUE=DATE:20230601
DTEND;VALUE=DATE:20230602
DTSTAMP:20260421T083108
CREATED:20230313T192209Z
LAST-MODIFIED:20230313T192209Z
UID:10000078-1685577600-1685663999@ahsgr.org
SUMMARY:Temporary Exhibit: Bunnock
DESCRIPTION:
URL:https://ahsgr.org/event/temporary-exhibit-bunnock/
LOCATION:AHSGR Headquarters\, 631 D St.\, Lincoln\, NE\, 68502\, United States
END:VEVENT
BEGIN:VEVENT
DTSTART;TZID=America/Chicago:20230408T130000
DTEND;TZID=America/Chicago:20230408T160000
DTSTAMP:20260421T083108
CREATED:20230216T200845Z
LAST-MODIFIED:20230316T161751Z
UID:10000074-1680958800-1680969600@ahsgr.org
SUMMARY:Spring Open House
DESCRIPTION:April 8th \nCost: Donation \nTime: 1pm-4pm \nJoin us and Friedens Lutheran Church as we resume our tour season of the historic buildings on the AHSGR campus in Lincoln’s South Bottoms. Light refreshments\, an egg hunt and games with prizes\, and more. Come learn more about the German Russian heritage in your own hometown. \n  \nEgg Hunt Starts at 2:00 PM
URL:https://ahsgr.org/event/spring-open-house/
LOCATION:AHSGR Headquarters\, 631 D St.\, Lincoln\, NE\, 68502\, United States
ATTACH;FMTTYPE=image/png:https://ahsgr.org/wpcms/wp-content/uploads/2023/02/Event-Flyers.png
END:VEVENT
BEGIN:VEVENT
DTSTART;VALUE=DATE:20230401
DTEND;VALUE=DATE:20230402
DTSTAMP:20260421T083108
CREATED:20230227T145451Z
LAST-MODIFIED:20240131T203932Z
UID:10000075-1680307200-1680393599@ahsgr.org
SUMMARY:Temporary Exhibit: Hattie Plum Williams
DESCRIPTION:
URL:https://ahsgr.org/event/temporary-exhibit-hattie-plum-williams/
LOCATION:AHSGR Headquarters\, 631 D St.\, Lincoln\, NE\, 68502\, United States
ATTACH;FMTTYPE=image/png:https://ahsgr.org/wpcms/wp-content/uploads/2023/02/Hattie-Plum-WIllams.png
END:VEVENT
BEGIN:VEVENT
DTSTART;TZID=America/Chicago:20230313T130000
DTEND;TZID=America/Chicago:20230313T160000
DTSTAMP:20260421T083108
CREATED:20230207T150430Z
LAST-MODIFIED:20230209T201052Z
UID:10000073-1678712400-1678723200@ahsgr.org
SUMMARY:AHSGR Intro to German Russian Genealogy
DESCRIPTION:Intro to Germans from Russia Genealogy  \nMarch 13th \nCost: Free to members and $20 to nonmembers; Sign up is required \nLimit: 15 people \nTime: 1pm-4pm \n  \nGenealogist and long-time AHSGR member Mike Meisinger will provide an overview on how to start your journey to discover your German Russian roots including: how to find your ancestors’ Russian village\, resources available based on that information\, and how to find the German origin of your ancestors before they migrated to the Russian Empire. Attendees will also have an hour and a half to tour the library and archives\, familiarize themselves with what is available onsite and online\, and talk to the Librarian and Archivist and the presenter. Make sure to sign up by March 9\, 2023. (Presentation will be filmed and placed on website for members-only access after March 22) \n  \nClick Here to Register \n 
URL:https://ahsgr.org/event/ahsgr-intro-to-german-russian-genealogy/
LOCATION:AHSGR Headquarters\, 631 D St.\, Lincoln\, NE\, 68502\, United States
ATTACH;FMTTYPE=image/png:https://ahsgr.org/wpcms/wp-content/uploads/2023/02/Intro-to-GR-Genealogy-1.png
END:VEVENT
END:VCALENDAR