BEGIN:VCALENDAR
VERSION:2.0
PRODID:-//American Historical Society of Germans from Russia - ECPv6.15.20//NONSGML v1.0//EN
CALSCALE:GREGORIAN
METHOD:PUBLISH
X-WR-CALNAME:American Historical Society of Germans from Russia
X-ORIGINAL-URL:https://ahsgr.org
X-WR-CALDESC:Events for American Historical Society of Germans from Russia
REFRESH-INTERVAL;VALUE=DURATION:PT1H
X-Robots-Tag:noindex
X-PUBLISHED-TTL:PT1H
BEGIN:VTIMEZONE
TZID:America/Chicago
BEGIN:DAYLIGHT
TZOFFSETFROM:-0600
TZOFFSETTO:-0500
TZNAME:CDT
DTSTART:20210314T080000
END:DAYLIGHT
BEGIN:STANDARD
TZOFFSETFROM:-0500
TZOFFSETTO:-0600
TZNAME:CST
DTSTART:20211107T070000
END:STANDARD
BEGIN:DAYLIGHT
TZOFFSETFROM:-0600
TZOFFSETTO:-0500
TZNAME:CDT
DTSTART:20220313T080000
END:DAYLIGHT
BEGIN:STANDARD
TZOFFSETFROM:-0500
TZOFFSETTO:-0600
TZNAME:CST
DTSTART:20221106T070000
END:STANDARD
BEGIN:DAYLIGHT
TZOFFSETFROM:-0600
TZOFFSETTO:-0500
TZNAME:CDT
DTSTART:20230312T080000
END:DAYLIGHT
BEGIN:STANDARD
TZOFFSETFROM:-0500
TZOFFSETTO:-0600
TZNAME:CST
DTSTART:20231105T070000
END:STANDARD
BEGIN:DAYLIGHT
TZOFFSETFROM:-0600
TZOFFSETTO:-0500
TZNAME:CDT
DTSTART:20240310T080000
END:DAYLIGHT
BEGIN:STANDARD
TZOFFSETFROM:-0500
TZOFFSETTO:-0600
TZNAME:CST
DTSTART:20241103T070000
END:STANDARD
END:VTIMEZONE
BEGIN:VEVENT
DTSTART;VALUE=DATE:20230803
DTEND;VALUE=DATE:20230806
DTSTAMP:20260421T042909
CREATED:20230124T171912Z
LAST-MODIFIED:20230718T181912Z
UID:10000072-1691020800-1691279999@ahsgr.org
SUMMARY:AHSGR 2023 Annual Convention Registration
DESCRIPTION:https://ahsgr.leemediagroup.com/?post_type=tribe_events&p=24646
URL:https://ahsgr.org/event/ahsgr-2023-annual-convention/
LOCATION:Doubletree by Hilton Greeley at Lincoln Park\, 919 7th St\, Greeley\, CO\, 80631\, United States
END:VEVENT
BEGIN:VEVENT
DTSTART;VALUE=DATE:20220727
DTEND;VALUE=DATE:20220731
DTSTAMP:20260421T042909
CREATED:20211202T204732Z
LAST-MODIFIED:20220725T142917Z
UID:10000046-1658880000-1659225599@ahsgr.org
SUMMARY:AHSGR 2022 Annual Convention
DESCRIPTION:The 2022 annual convention will be held in Lincoln\, Nebraska.  This will be a hybrid event featuring in-person presentations\, but also offering Zoom accessible sessions for virtual participation for some presentations. \nVirtual Registration Cutoff \nRegistration for the virtual convention will be available through Wednesday\, July 27th\, until 5PM CST.
URL:https://ahsgr.org/event/2022-convention/
LOCATION:Doubletree by Hilton Greeley at Lincoln Park\, 919 7th St\, Greeley\, CO\, 80631\, United States
END:VEVENT
END:VCALENDAR